BEGIN:VCALENDAR
VERSION:2.0
PRODID:-//The Kansas City Parrothead Club - ECPv6.0.10//NONSGML v1.0//EN
CALSCALE:GREGORIAN
METHOD:PUBLISH
X-ORIGINAL-URL:https://finsleft.com
X-WR-CALDESC:Events for The Kansas City Parrothead Club
REFRESH-INTERVAL;VALUE=DURATION:PT1H
X-Robots-Tag:noindex
X-PUBLISHED-TTL:PT1H
BEGIN:VTIMEZONE
TZID:America/Chicago
BEGIN:DAYLIGHT
TZOFFSETFROM:-0600
TZOFFSETTO:-0500
TZNAME:CDT
DTSTART:20240310T080000
END:DAYLIGHT
BEGIN:STANDARD
TZOFFSETFROM:-0500
TZOFFSETTO:-0600
TZNAME:CST
DTSTART:20241103T070000
END:STANDARD
BEGIN:DAYLIGHT
TZOFFSETFROM:-0600
TZOFFSETTO:-0500
TZNAME:CDT
DTSTART:20250309T080000
END:DAYLIGHT
BEGIN:STANDARD
TZOFFSETFROM:-0500
TZOFFSETTO:-0600
TZNAME:CST
DTSTART:20251102T070000
END:STANDARD
END:VTIMEZONE
BEGIN:VEVENT
DTSTART;TZID=America/Chicago:20250725T183000
DTEND;TZID=America/Chicago:20250725T213000
DTSTAMP:20260424T061644
CREATED:20250721T141651Z
LAST-MODIFIED:20250721T141651Z
UID:8831-1753468200-1753479000@finsleft.com
SUMMARY:The Nace Brothers at Holyfield Winery in Basehor\, KS
DESCRIPTION:
URL:https://finsleft.com/event/the-nace-brothers-at-holyfield-winery-in-basehor-ks/
LOCATION:Holyfield Winery\, 18807 158th St\, Basehor\, KS\, 66007
CATEGORIES:Island Time Socials,Live Music
END:VEVENT
BEGIN:VEVENT
DTSTART;TZID=America/Chicago:20250404T190000
DTEND;TZID=America/Chicago:20250404T190000
DTSTAMP:20260424T061644
CREATED:20250311T154439Z
LAST-MODIFIED:20250313T160029Z
UID:7550-1743793200-1743793200@finsleft.com
SUMMARY:Island Time Social at Callsign Brewing in North Kansas City
DESCRIPTION:Our first “Island Time Social” of the year!!\nOur own Ricky Lamb is back at Callsign Brewing. Come out\, have a brew and listen to some great music!!
URL:https://finsleft.com/event/island-time-social-at-callsign-brewing-in-north-kansas-city/
LOCATION:Callsign Brewing\, 1340 Burlington St\, North Kansas City\, MO\, 64416
CATEGORIES:Island Time Socials,Live Music
ATTACH;FMTTYPE=image/png:https://finsleft.com/wp-content/uploads/2021/10/Island-Time-Socials.png
END:VEVENT
BEGIN:VEVENT
DTSTART;TZID=America/Chicago:20241018T170000
DTEND;TZID=America/Chicago:20241018T170000
DTSTAMP:20260424T061644
CREATED:20241012T165246Z
LAST-MODIFIED:20241012T170344Z
UID:6589-1729270800-1729270800@finsleft.com
SUMMARY:Nace Brothers at The Levee
DESCRIPTION:  \n  \n  \n  \n  \n  \nThe Nace Brothers will be playing at The Levee Friday night Oct. 18th. at 5PM. We have decided to make this an Island Time Social event. If Interested send an email to the Club Attn: Susan Lasater. She is going to get there early and try the save some seats. She needs to know what to expect. You can also reply to the notice on our Facebook group page if you belong to it. \nThe address is: 16 W 43rd St\, Kansas City\, MO\, United States\, Missouri \nThis will be an awesome Event!
URL:https://finsleft.com/event/nace-brothers-at-the-levee/
LOCATION:The Levee\, 16 W 43rd St\, Kansas City\, United States
CATEGORIES:Island Time Socials,Live Music
END:VEVENT
END:VCALENDAR